BEGIN:VCALENDAR
VERSION:2.0
PRODID:-//ERT//LNF26//DE
VERSION:2.0
BEGIN:VEVENT
UID:station_7483_20260324T160000Z
DTSTAMP:20260420T054100Z
URL:https://ert.langenachtderforschung.at/station/7483
DTSTART:20260324T160000Z
DTEND:20260424T210000Z
SUMMARY:[LNF26] U41: Welche Körperpflege kannten die Römer:innen?
DESCRIPTION:Im Alten Rom spielte Körperpflege eine große Rolle. Man nutzte seifenähnliche Produkte, Salben, Parfums und in höheren Schichten auch Perücken. Zum Alltag gehörte der Thermenbesuch, inklusive Angeboten von Friseuren, Barbieren und Haarentfernung. An dieser Station erfährst du mehr darüber und kannst – wie die Römer:innen – selbst Parfums und Salben herstellen.
LOCATION:Universitätsstraße 65-67, 9020 Klagenfurt
GEO:46.61631826;14.26516771
END:VEVENT
END:VCALENDAR