BEGIN:VCALENDAR
VERSION:2.0
PRODID:-//ERT//LNF26//DE
VERSION:2.0
BEGIN:VEVENT
UID:station_7484_20260324T160000Z
DTSTAMP:20260420T054200Z
URL:https://ert.langenachtderforschung.at/station/7484
DTSTART:20260324T160000Z
DTEND:20260424T210000Z
SUMMARY:[LNF26] U42: Wie wird in OnlineKommentaren argumentiert?
DESCRIPTION:Online-Kommentare sind nicht nur Meinungen, sondern zeigen gesellschaftliche Haltungen und Denkmuster. Am Beispiel der Kontroverse um die Benennung des Turnersees und des dortigen Ferienheims wird ein Bedeutungsstreit im Kärntner erinnerungskulturellen Mediendiskurs sichtbar. Teste in unserem Topoi-Memory, ob du Argumentationsmuster erkennst und was dich überzeugt oder nicht.
LOCATION:Universitätsstraße 65-67, 9020 Klagenfurt
GEO:46.61631826;14.26516771
END:VEVENT
END:VCALENDAR