BEGIN:VCALENDAR
VERSION:2.0
PRODID:-//ERT//LNF26//DE
VERSION:2.0
BEGIN:VEVENT
UID:station_7485_20260324T160000Z
DTSTAMP:20260420T072100Z
URL:https://ert.langenachtderforschung.at/station/7485
DTSTART:20260324T160000Z
DTEND:20260424T210000Z
SUMMARY:[LNF26] L22: Was kann Sensorik?
DESCRIPTION:Sensoren sind kleine Teile, die Maschinen helfen, Dinge in ihrer Umgebung zu sehen, zu fühlen oder zu hören. Sensoren sind heute in zahlreichen elektronischen Geräten, z. B. im Handy, Auto oder in der Industrieanlage. Bei dieser Station erfährst du, wie Energie durch Pedalbewegungen erzeugt und präzise durch Sensorik gemessen wird. Außerdem zeigen wir dir, wie aus glänzenden Scheiben Sensoren werden.
LOCATION:Lakeside B11, 9020 Klagenfurt
GEO:46.61423291;14.26646054
END:VEVENT
END:VCALENDAR