BEGIN:VCALENDAR
VERSION:2.0
PRODID:-//ERT//LNF26//DE
VERSION:2.0
BEGIN:VEVENT
UID:station_7486_20260324T160000Z
DTSTAMP:20260420T053800Z
URL:https://ert.langenachtderforschung.at/station/7486
DTSTART:20260324T160000Z
DTEND:20260424T210000Z
SUMMARY:[LNF26] U43: Wie digitalisiert ist deine Arbeits- und Lebenswelt?
DESCRIPTION:Im Zentrum steht die Digitalisierung von Arbeits- und Lebenswelt. Wir laden dich zur Umfrage zum Work-Life-Blending. So erfährst du mehr darüber, wie es dir gelingt, Grenzen zu setzen – etwa als „Arbeitskriegerin“ oder „Familienschützer“. Außerdem bekommst du im zweiten Teil der Station Tipps zur Videogestaltung mit dem Smartphone.
LOCATION:Universitätsstraße 65-67, 9020 Klagenfurt
GEO:46.61631826;14.26516771
END:VEVENT
END:VCALENDAR