BEGIN:VCALENDAR
VERSION:2.0
PRODID:-//ERT//LNF26//DE
VERSION:2.0
BEGIN:VEVENT
UID:station_7487_20260324T160000Z
DTSTAMP:20260420T054100Z
URL:https://ert.langenachtderforschung.at/station/7487
DTSTART:20260324T160000Z
DTEND:20260424T210000Z
SUMMARY:[LNF26] L23: Brauchen wir in Zukunft noch einen Führerschein?
DESCRIPTION:Die Zukunft fährt autonom! Entdecke, wie Roboter Autos steuern, Reisen schneller, smarter und klimafreundlicher werden. Im SURAAA-Projekt kannst du in Kärnten hautnah erleben, wie selbstfahrende Fahrzeuge funktionieren, und sogar ausprobieren, wie es ist, wenn Autos ganz von alleine fahren – spannend, sicher und zukunftsnah!
LOCATION:Lakeside B11, 9020 Klagenfurt
GEO:46.61423291;14.26646054
END:VEVENT
END:VCALENDAR