BEGIN:VCALENDAR
VERSION:2.0
PRODID:-//ERT//LNF26//DE
VERSION:2.0
BEGIN:VEVENT
UID:station_7488_20260324T160000Z
DTSTAMP:20260420T053900Z
URL:https://ert.langenachtderforschung.at/station/7488
DTSTART:20260324T160000Z
DTEND:20260424T210000Z
SUMMARY:[LNF26] L24: Winzige Chips – dünner als ein Haar!
DESCRIPTION:Entdecke die Welt superkleiner Mikrochips! Infineon Austria zeigt, wie Chips hergestellt werden, die viermal dünner als ein menschliches Haar sind. Erlebe spannende Weltneuheiten aus der Forschung und entdecke unzählige Anwendungen des täglichen Lebens, in denen Infineon-Technologien stecken.
LOCATION:Lakeside B11, 9020 Klagenfurt
GEO:46.61423291;14.26646054
END:VEVENT
END:VCALENDAR