BEGIN:VCALENDAR
VERSION:2.0
PRODID:-//ERT//LNF26//DE
VERSION:2.0
BEGIN:VEVENT
UID:station_7489_20260324T160000Z
DTSTAMP:20260420T054200Z
URL:https://ert.langenachtderforschung.at/station/7489
DTSTART:20260324T160000Z
DTEND:20260424T210000Z
SUMMARY:[LNF26] U44: Wer erstellt den besten Bahnfahrplan?
DESCRIPTION:Du wolltest schon immer den bestehenden Bahnfahrplan verbessern, dann bist du bei uns richtig!\nBei dieser Station bekommst du Einblick in die Welt der mathematischen Optimierung, indem du selbst\nspielerisch nach dem besten Bahnfahrplan suchen kannst! An einem Computer wird deine Planung graphisch dargestellt und die Qualität des von dir erstellten Bahnfahrplans ausgewertet.
LOCATION:Universitätsstraße 65-67, 9020 Klagenfurt
GEO:46.61631826;14.26516771
END:VEVENT
END:VCALENDAR