BEGIN:VCALENDAR
VERSION:2.0
PRODID:-//ERT//LNF26//DE
VERSION:2.0
BEGIN:VEVENT
UID:station_7490_20260324T160000Z
DTSTAMP:20260420T054300Z
URL:https://ert.langenachtderforschung.at/station/7490
DTSTART:20260324T160000Z
DTEND:20260424T210000Z
SUMMARY:[LNF26] U45: Wie gut bist du im Laser-Biathlon?
DESCRIPTION:Biathlon im Frühling: Schau bei dieser Station vorbei und versuche, liegend und stehend alle Ziele zu treffen. Auf einer Testbahn aus „textilem Schnee“ kannst du gleichzeitig skaten und klassischen Langlauf\nausprobieren. Mach deine Erfahrungen im spannenden Gegensatz aus Dynamik und Ruhe beim Biathlon-Sport!
LOCATION:Universitätsstraße 65-67, 9020 Klagenfurt
GEO:46.61631826;14.26516771
END:VEVENT
END:VCALENDAR