BEGIN:VCALENDAR
VERSION:2.0
PRODID:-//ERT//LNF26//DE
VERSION:2.0
BEGIN:VEVENT
UID:station_7491_20260324T160000Z
DTSTAMP:20260420T053800Z
URL:https://ert.langenachtderforschung.at/station/7491
DTSTART:20260324T160000Z
DTEND:20260424T210000Z
SUMMARY:[LNF26] L25: Wie können wir automatisch Schäden an Windturbinen entdecken?
DESCRIPTION:Windturbinen müssen abgeschaltet werden, damit man sie untersuchen kann. Das führt dazu, dass Windräder für den Zeitraum der Abschaltung keine Energie erzeugen. Außerdem sind die Inspektionskosten für Windturbinen traditionell hoch. Mit dem Projekt DORBINE sollen nun KI-gesteuerte Drohnenschwärme die Windturbinen inspizieren. Erlebe an einem zwei Meter großen Modell, wie das mit Hilfe von KI funktionieren soll.
LOCATION:Lakeside B11, 9020 Klagenfurt
GEO:46.61423291;14.26646054
END:VEVENT
END:VCALENDAR