BEGIN:VCALENDAR
VERSION:2.0
PRODID:-//ERT//LNF26//DE
VERSION:2.0
BEGIN:VEVENT
UID:station_7492_20260324T160000Z
DTSTAMP:20260420T071800Z
URL:https://ert.langenachtderforschung.at/station/7492
DTSTART:20260324T160000Z
DTEND:20260424T210000Z
SUMMARY:[LNF26] L26: Wie werden 3D-Videoumgebungen noch realistischer?
DESCRIPTION:Kennst du schon 3D Gaussian Splatting (3DGS)? Das ist die nächste Generation der 3D-Videotechnologie, mit der Bilder in Punktwolken fließender und realistischer – mit deutlich geringeren Datenmengen\n– erzeugt werden können. Hier erlebst du, wie reale Szenen erfasst und anderswo als realistische Umgebungen wiedergegeben werden können. Du kannst dabei selbst mit dem 3DGS-Video am Computer interagieren.
LOCATION:Lakeside B11, 9020 Klagenfurt
GEO:46.61423291;14.26646054
END:VEVENT
END:VCALENDAR