BEGIN:VCALENDAR
VERSION:2.0
PRODID:-//ERT//LNF26//DE
VERSION:2.0
BEGIN:VEVENT
UID:station_7493_20260324T160000Z
DTSTAMP:20260420T071800Z
URL:https://ert.langenachtderforschung.at/station/7493
DTSTART:20260324T160000Z
DTEND:20260424T210000Z
SUMMARY:[LNF26] L27: Scharf, schärfer, am schärfsten: Wie können wir Videoqualität mit Super-Resolution verbessern?
DESCRIPTION:An dieser Station tauchst du ein in die Superlativen der Videoqualität: Du erlebst, wie KI-gestützt Super-Resolution die Videoqualität erheblich verbessern kann, indem sie feine Details und Texturen aus Aufnahmen mit niedriger Auflösung nachbaut. Du wirst mit deinen eigenen Augen sehen, wie dasselbe Video mit verschiedenen Technologien aussieht – und kannst die visuellen Ergebnisse in Echtzeit vergleichen.
LOCATION:Lakeside B11, 9020 Klagenfurt
GEO:46.61423291;14.26646054
END:VEVENT
END:VCALENDAR