BEGIN:VCALENDAR
VERSION:2.0
PRODID:-//ERT//LNF26//DE
VERSION:2.0
BEGIN:VEVENT
UID:station_7494_20260324T160000Z
DTSTAMP:20260420T054800Z
URL:https://ert.langenachtderforschung.at/station/7494
DTSTART:20260324T160000Z
DTEND:20260424T210000Z
SUMMARY:[LNF26] L28: Wie spielt man 3D-Dart mit neuen Multimedia-Technologien?
DESCRIPTION:An dieser Station erfährst du, wie Wahrnehmung und Interaktion in Multimedia-Erlebnissen der nächsten\nGeneration verschmelzen. Mit Apple Vision ProHead-Mounted-Displays siehst du stereoskopische\nRaumvideos an und spielst dann ein 3D-Dartspiel, bei dem die Wurfbewegung und die räumliche Tiefenwahrnehmung das Ergebnis in Echtzeit beeinflussen. Freu dich auf dieses spannende Multimedia-Erlebnis!
LOCATION:Lakeside B11, 9020 Klagenfurt
GEO:46.61423291;14.26646054
END:VEVENT
END:VCALENDAR