BEGIN:VCALENDAR
VERSION:2.0
PRODID:-//ERT//LNF26//DE
VERSION:2.0
BEGIN:VEVENT
UID:station_7495_20260324T160000Z
DTSTAMP:20260420T072300Z
URL:https://ert.langenachtderforschung.at/station/7495
DTSTART:20260324T160000Z
DTEND:20260424T210000Z
SUMMARY:[LNF26] L30: Kann die KI ein für mich passendes Smart Home maßschneidern?
DESCRIPTION:Obwohl das Smart-Home-Konzept seit 40 Jahren existiert, nutzen es nur wenige. Bisher mussten für\ndie eigene Wohnsituation passende Lösungen mühsam händisch recherchiert werden. Generative KI\nwie ChatGPT liefert in Sekunden maßgeschneiderte Informationen zu individuellen Wohnbedürfnissen. Wir\nzeigen diesen Prozess und laden dich dazu ein, selbst Funktionen auszuprobieren!
LOCATION:Lakeside B11, 9020 Klagenfurt
GEO:46.61423291;14.26646054
END:VEVENT
END:VCALENDAR