BEGIN:VCALENDAR
VERSION:2.0
PRODID:-//ERT//LNF26//DE
VERSION:2.0
BEGIN:VEVENT
UID:station_7496_20260324T160000Z
DTSTAMP:20260420T053800Z
URL:https://ert.langenachtderforschung.at/station/7496
DTSTART:20260324T160000Z
DTEND:20260424T210000Z
SUMMARY:[LNF26] L31: Das KI-Quiz: ist das künstlich oder real?
DESCRIPTION:Können wir noch erkennen, ob ein Bild, ein Text oder ein Video real oder mit Hilfe von KI erzeugt ist? An\ndieser Station erwartet dich ein großes KI-Quiz! Mach mit und schärfe deine KI-Spürnase, um zukünftig\nnoch besser Fake von realen Inhalten unterscheiden zu können. Gleichzeitig erfährst du, wie KI arbeitet\nund trainiert wird.
LOCATION:Lakeside B11, 9020 Klagenfurt
GEO:46.61423291;14.26646054
END:VEVENT
END:VCALENDAR