BEGIN:VCALENDAR
VERSION:2.0
PRODID:-//ERT//LNF26//DE
VERSION:2.0
BEGIN:VEVENT
UID:station_7497_20260324T160000Z
DTSTAMP:20260420T053700Z
URL:https://ert.langenachtderforschung.at/station/7497
DTSTART:20260324T160000Z
DTEND:20260424T210000Z
SUMMARY:[LNF26] L32: VR Experience – Virtuelle Welten erleben
DESCRIPTION:Komm zu uns in die Räumlichkeiten der Informatikwerkstatt und tauche ein in virtuelle Welten! Sightseeing als Vogel in Paris? Oder verpeilter Automechaniker im Comicstil, der Ketchup statt Motoröl verwendet? Erlebe unterschiedliche virtuelle Welten und tausch dich mit uns darüber aus. Vor Ort sind zwei VR-Brillen verfügbar, die VR-Welten werden für die Zusehenden auch gestreamt.
LOCATION:Lakeside B11, 9020 Klagenfurt
GEO:46.61423291;14.26646054
END:VEVENT
END:VCALENDAR