BEGIN:VCALENDAR
VERSION:2.0
PRODID:-//ERT//LNF26//DE
VERSION:2.0
BEGIN:VEVENT
UID:station_7498_20260324T160000Z
DTSTAMP:20260420T053700Z
URL:https://ert.langenachtderforschung.at/station/7498
DTSTART:20260324T160000Z
DTEND:20260424T210000Z
SUMMARY:[LNF26] L33: Informatikwerkstatt – Informatik zum Anfassen und Staunen
DESCRIPTION:Komm zu uns in die Informatik-Werkstatt! Für alle Altersgruppen, besonders für Kinder von fünf bis 14.\nWie sagt man einem Roboter, was er tun soll – und kann ich das auch? Lass Roboter für dich Geschichten erleben, Wege zurücklegen und sogar zeichnen! BeeBot, ProBot, Sphero Bolt, … Probier aus, was dir\nam besten gefällt und begib dich auf die Schatzsuche mit einem Gewinnspiel!
LOCATION:Lakeside B11, 9020 Klagenfurt
GEO:46.61423291;14.26646054
END:VEVENT
END:VCALENDAR