BEGIN:VCALENDAR
VERSION:2.0
PRODID:-//ERT//LNF26//DE
VERSION:2.0
BEGIN:VEVENT
UID:station_7499_20260324T160000Z
DTSTAMP:20260420T054000Z
URL:https://ert.langenachtderforschung.at/station/7499
DTSTART:20260324T160000Z
DTEND:20260424T210000Z
SUMMARY:[LNF26] L34: Zum Volkswirt‘n
DESCRIPTION:Stündlich gibt es einen Mini-Vortrag, dazwischen wird beim Volkswirt‘n diskutiert – zu Fragen wie: Bin ich ein Homo oeconomicus oder tut das nur weh? Was ist die beste Medizin gegen hohe Preise? Machen\nZölle Austria great again? Soll ich in Gold, Immobilien oder Bitcoins investieren? Wachsen uns die Staatsschulden über den Kopf? Wird alles schlechter – oder glauben wir das nur? Dazu gibt es Spiele und Experimente.
LOCATION:Lakeside B11, 9020 Klagenfurt
GEO:46.61423291;14.26646054
END:VEVENT
END:VCALENDAR