BEGIN:VCALENDAR
VERSION:2.0
PRODID:-//ERT//LNF26//DE
VERSION:2.0
BEGIN:VEVENT
UID:station_7500_20260324T160000Z
DTSTAMP:20260420T053900Z
URL:https://ert.langenachtderforschung.at/station/7500
DTSTART:20260324T160000Z
DTEND:20260424T210000Z
SUMMARY:[LNF26] L35: Wie können Drohnen und Drohnenschwärme navigieren?
DESCRIPTION:An dieser Station erlebst du, wie mehrere Drohnen im Labor sicher fliegen. Du kannst dabei aus mehreren Manövern auswählen und beobachten, wie sich Kleinstdrohnen, die nur 5 x 5 cm groß sind, orientieren, aufeinander reagieren und ihre Bewegungen anpassen. So bekommst du einen Einblick in die Robotik und Schwarmnavigation, die wichtige Grundlagen für zukünftige Multi-Drohnen-Systeme sind.
LOCATION:Lakeside B11, 9020 Klagenfurt
GEO:46.61423291;14.26646054
END:VEVENT
END:VCALENDAR