BEGIN:VCALENDAR
VERSION:2.0
PRODID:-//ERT//LNF26//DE
VERSION:2.0
BEGIN:VEVENT
UID:station_7501_20260324T160000Z
DTSTAMP:20260420T053800Z
URL:https://ert.langenachtderforschung.at/station/7501
DTSTART:20260324T160000Z
DTEND:20260424T210000Z
SUMMARY:[LNF26] L37: Wie lernt man (kinder)leicht programmieren?
DESCRIPTION:Hier wird selbst Hand angelegt: Nach einer kurzen Einführung liegt es an dir, mithilfe der Programmiersprache Blockly und händischem Führen eines Niryo Ned 2 Roboters eine knifflige Aufgabe zu lösen. Du schlüpfst so in die Rolle unserer Studierenden, die auch mit diesen Robotern arbeiten. Das Programm startet zu jeder vollen Stunde.
LOCATION:Lakeside B11, 9020 Klagenfurt
GEO:46.61423291;14.26646054
END:VEVENT
END:VCALENDAR