BEGIN:VCALENDAR
VERSION:2.0
PRODID:-//ERT//LNF26//DE
VERSION:2.0
BEGIN:VEVENT
UID:station_7502_20260324T160000Z
DTSTAMP:20260420T072100Z
URL:https://ert.langenachtderforschung.at/station/7502
DTSTART:20260324T160000Z
DTEND:20260424T210000Z
SUMMARY:[LNF26] L38: Werden Roboter unsere Helfer des Alltags?
DESCRIPTION:Eignen sich Roboter als Aufräumhelfer? Roboter werden in Zukunft immer vielfältigere Alltagsaufgaben bewältigen müssen. Als Alltagshelfer müssen sie auch in der Lage sein, beim Aufräumen zuhause\nmitzuhelfen. Bei dieser Station darfst du eine Unordnung hinterlassen und den Robotern die ganze Arbeit\nüberlassen. Viel Spaß dabei!
LOCATION:Lakeside B11, 9020 Klagenfurt
GEO:46.61423291;14.26646054
END:VEVENT
END:VCALENDAR