BEGIN:VCALENDAR
VERSION:2.0
PRODID:-//ERT//LNF26//DE
VERSION:2.0
BEGIN:VEVENT
UID:station_7503_20260324T160000Z
DTSTAMP:20260420T072400Z
URL:https://ert.langenachtderforschung.at/station/7503
DTSTART:20260324T160000Z
DTEND:20260424T210000Z
SUMMARY:[LNF26] L39: Wie beeinflusst unsere Umgebung unsere Emotionen und Verhalten?
DESCRIPTION:Macht dich Hitze wütend und schlechte Luft übellaunig? An dieser Station untersuchen wir, wie sich\nUmweltbedingungen wie Luftqualität oder Temperatur auf das Wohlbefinden auswirken. Dabei erproben\nwir auch, wie wir VR-Werkzeuge dafür nutzen können, um unsere psychische Gesundheit zu fördern. Komm mit uns auf eine Entdeckungsreise in unterschiedliche virtuelle und physische Umwelten.
LOCATION:Lakeside B11, 9020 Klagenfurt
GEO:46.61423291;14.26646054
END:VEVENT
END:VCALENDAR