BEGIN:VCALENDAR
VERSION:2.0
PRODID:-//ERT//LNF26//DE
VERSION:2.0
BEGIN:VEVENT
UID:station_7504_20260324T160000Z
DTSTAMP:20260420T072400Z
URL:https://ert.langenachtderforschung.at/station/7504
DTSTART:20260324T160000Z
DTEND:20260424T210000Z
SUMMARY:[LNF26] L43: Wie können Drohnen völlig autonom fliegen?
DESCRIPTION:Autonome Drohnen haben das Potenzial, unser Leben grundlegend zu verbessern: Sie können Güter in\nentlegene Gebiete liefern, in Extremsituationen Leben retten und Aufgaben übernehmen, die für Menschen gefährlich oder gar unmöglich sind. Um den Traum vom vollautonomen Flug Realität werden zu lassen, brauchen wir bahnbrechende Innovationen. Gewinne hier Einblick in die aktuelle Forschung zu autonomen\nDrohnenflügen.
LOCATION:Lakeside B11, 9020 Klagenfurt
GEO:46.61423291;14.26646054
END:VEVENT
END:VCALENDAR