BEGIN:VCALENDAR
VERSION:2.0
PRODID:-//ERT//LNF26//DE
VERSION:2.0
BEGIN:VEVENT
UID:station_7505_20260324T160000Z
DTSTAMP:20260420T072400Z
URL:https://ert.langenachtderforschung.at/station/7505
DTSTART:20260324T160000Z
DTEND:20260424T210000Z
SUMMARY:[LNF26] E06: Wie machen wir Klagenfurt gemeinsam klimafreundlicher?
DESCRIPTION:Das City Science Lab der AAU baut Brücken zwischen Forschung und Stadtgesellschaft und trägt damit aktiv zum Erlangen der Klimaneutralität Klagenfurts bei. Im Rahmen der LNF stellt das interdisziplinäre Team das Labor und seine Projekte vor. Wir laden dich dazu ein, deine Ideen am Board zu deponieren, mit einem Quiz Klima-Fragen auf den Grund zu gehen und Klima-Spiele zu spielen.
LOCATION:Lakeside B11, 9020 Klagenfurt
GEO:46.61423291;14.26646054
END:VEVENT
END:VCALENDAR