BEGIN:VCALENDAR
VERSION:2.0
PRODID:-//ERT//LNF26//DE
VERSION:2.0
BEGIN:VEVENT
UID:station_7506_20260324T160000Z
DTSTAMP:20260420T054500Z
URL:https://ert.langenachtderforschung.at/station/7506
DTSTART:20260324T160000Z
DTEND:20260424T210000Z
SUMMARY:[LNF26] K01: Heute sind wir Magnetdetektiv:innen! Wir erforschen Magnetismus
DESCRIPTION:Hast du schon einmal gesehen, wie ein Magnet Dinge anzieht – fast wie Zauberei? Wir laden Kinder im Alter von vier bis acht Jahren halbstündlich zum spielerischen Erforschen und Experimentieren zum Thema Magnetismus ein. Dich erwarten viele Experimente und Spiele sowie eine Bastelstation im Eingangsbereich.
LOCATION:Lakeside B11, 9020 Klagenfurt
GEO:46.61423291;14.26646054
END:VEVENT
END:VCALENDAR