BEGIN:VCALENDAR
VERSION:2.0
PRODID:-//ERT//LNF26//DE
VERSION:2.0
BEGIN:VEVENT
UID:station_7507_20260424T150000Z
DTSTAMP:20260420T072400Z
URL:https://ert.langenachtderforschung.at/station/7507
DTSTART:20260424T150000Z
DTEND:20260424T160000Z
SUMMARY:[LNF26] Rahmenprogramm: Eröffnungsshow
DESCRIPTION:17:00 Uhr, Universität Klagenfurt, Hörsaal A |\n\nVerschaff dir einen Überblick: Die Stationen präsentieren in jeweils 20 Sekunden ihr Projekt.
LOCATION:Universitätsstraße 65-67, 9020 Klagenfurt
GEO:46.61631826;14.26516771
END:VEVENT
END:VCALENDAR