BEGIN:VCALENDAR
VERSION:2.0
PRODID:-//ERT//LNF26//DE
VERSION:2.0
BEGIN:VEVENT
UID:station_7514_20260424T153000Z
DTSTAMP:20260420T003300Z
URL:https://ert.langenachtderforschung.at/station/7514
DTSTART:20260424T153000Z
DTEND:20260424T163000Z
SUMMARY:[LNF26] Wie viel Surround-Sound steckt in Bananen?
DESCRIPTION:Hinter Bananen stecken gebogene Lautsprecher-Arrays, die zusammen wie eine große Schallquelle arbeiten. Mit ihnen kann Klang gezielt im Raum verteilt werden, sodass viele Menschen gleichzeitig ein gleichmäßiges Hörerlebnis haben. Erleben Sie, wie moderne immersive Beschallungstechnik Klang von allen Seiten erlebbar macht! (Lukas Gölles, Matthias Frank, Franz Zotter)
LOCATION:Leonhardstraße 19 Bühne, 8010 Graz
GEO:47.07245350;15.45048685
END:VEVENT
END:VCALENDAR