BEGIN:VCALENDAR
VERSION:2.0
PRODID:-//ERT//LNF26//DE
VERSION:2.0
BEGIN:VEVENT
UID:station_7515_20260424T183000Z
DTSTAMP:20260420T004000Z
URL:https://ert.langenachtderforschung.at/station/7515
DTSTART:20260424T183000Z
DTEND:20260424T193000Z
SUMMARY:[LNF26] Surround-Sound: Wie höre ich Töne rund um mich herum?
DESCRIPTION:Gebogene Lautsprecher-Arrays, arbeiten zusammen wie eine große Schallquelle. Mit ihnen kann Klang gezielt im Raum verteilt werden, sodass viele Menschen gleichzeitig ein gleichmäßiges Hörerlebnis haben. Erleben Sie, wie moderne immersive Beschallungstechnik Klang von allen Seiten erlebbar macht! (Lukas Gölles, Matthias Frank, Franz Zotter)
LOCATION:Leonhardstraße 19 Bühne, 8010 Graz
GEO:47.07245350;15.45048685
END:VEVENT
END:VCALENDAR