BEGIN:VCALENDAR
VERSION:2.0
PRODID:-//ERT//LNF26//DE
VERSION:2.0
BEGIN:VEVENT
UID:station_7516_20260424T171500Z
DTSTAMP:20260420T003300Z
URL:https://ert.langenachtderforschung.at/station/7516
DTSTART:20260424T171500Z
DTEND:20260424T181500Z
SUMMARY:[LNF26] Was passiert, wenn Klang sich in unterschiedliche Richtungen ausbreitet?
DESCRIPTION:Ein kugelförmiger Lautsprecher brachte eine Frage auf: Was passiert, wenn Klang sich in unterschiedliche Richtungen ausbreitet? Und was, wenn dabei die Klangquelle nicht statisch bleibt? Wenn sie sich – wie das Publikum – frei im Raum bewegt? Wie könnte eine Aufführungspraxis aussehen, die dieser Eigenschaft des Lautsprechers entspricht? (KinderUniGraz) Experiment mit Marko Ciciliani
LOCATION:Leonhardstraße 19 Probebühne, 8010 Graz
GEO:47.07245350;15.45048685
END:VEVENT
END:VCALENDAR