BEGIN:VCALENDAR
VERSION:2.0
PRODID:-//ERT//LNF26//DE
VERSION:2.0
BEGIN:VEVENT
UID:station_7518_20260324T160000Z
DTSTAMP:20260420T054200Z
URL:https://ert.langenachtderforschung.at/station/7518
DTSTART:20260324T160000Z
DTEND:20260424T210000Z
SUMMARY:[LNF26] L29: Aus Mikroplastik wird Neues!
DESCRIPTION:Entdecke, wie aus Mikroplastik spannende neue Dinge entstehen können! Im MICRO-ALPS-Projekt erforschen wir, wie Plastikreste aus der Brillenindustrie gesammelt, recycelt und für den 3D-Druck von coolen Objekten genutzt werden. Schau zu, lerne und staune, wie Forscher:innen aus Abfall Neues schaffen!
LOCATION:Lakeside B11, 9020 Klagenfurt
GEO:46.61423291;14.26646054
END:VEVENT
END:VCALENDAR