BEGIN:VCALENDAR
VERSION:2.0
PRODID:-//ERT//LNF26//DE
VERSION:2.0
BEGIN:VEVENT
UID:station_7519_20260324T160000Z
DTSTAMP:20260420T054100Z
URL:https://ert.langenachtderforschung.at/station/7519
DTSTART:20260324T160000Z
DTEND:20260424T210000Z
SUMMARY:[LNF26] L36: Was hat ein Bienenschwarm mit dem Laden von Autos zu tun?
DESCRIPTION:Wie Schwärme in der Natur kooperieren, so koordinieren auch Fahrzeuge ihre Energieversorgung. Erfahre bei uns alles über Schwarmintelligenz, was sie alles kann und wo sie angewendet wird. Im Projekt „Shared Charging“ organisieren sich Schwarmagenten selbst, um Strom intelligent zu verteilen und das Netz zu entlasten. Eine App erklärt das Konzept spielerisch für alle Altersgruppen.
LOCATION:Lakeside B11, 9020 Klagenfurt
GEO:46.61423291;14.26646054
END:VEVENT
END:VCALENDAR