BEGIN:VCALENDAR
VERSION:2.0
PRODID:-//ERT//LNF26//DE
VERSION:2.0
BEGIN:VEVENT
UID:station_7520_20260324T160000Z
DTSTAMP:20260420T053900Z
URL:https://ert.langenachtderforschung.at/station/7520
DTSTART:20260324T160000Z
DTEND:20260424T210000Z
SUMMARY:[LNF26] L40: Blitzschnell Fehler finden – sogar bei Keksen!
DESCRIPTION:Kann eine Maschine Kekse kontrollieren? Unser Keksdemonstrator zeigt, wie Künstliche Intelligenz fehlerhafte Kekse blitzschnell erkennt! Sie überprüft jedes Stück live, findet Unterschiede und markiert sie in Sekunden. So lernst du spielerisch, wie KI in der Industrie Produkte prüft.
LOCATION:Lakeside B11, 9020 Klagenfurt
GEO:46.61423291;14.26646054
END:VEVENT
END:VCALENDAR