BEGIN:VCALENDAR
VERSION:2.0
PRODID:-//ERT//LNF26//DE
VERSION:2.0
BEGIN:VEVENT
UID:station_7521_20260324T160000Z
DTSTAMP:20260420T071400Z
URL:https://ert.langenachtderforschung.at/station/7521
DTSTART:20260324T160000Z
DTEND:20260424T210000Z
SUMMARY:[LNF26] L41: Wie KI beim Dokumentieren und Reparieren hilft
DESCRIPTION:Erlebe, wie digitale Helfer die Montage von Bauteilen leichter machen! Unser Do(KI)t-Assistent verarbeitet Bauteillisten und Videos und erstellt daraus automatisch eine Anleitung. So kannst du Fehler schneller finden und beheben – spielerisch lernen, wie KI den Alltag in der Technik unterstützt!
LOCATION:Lakeside B11, 9020 Klagenfurt
GEO:46.61423291;14.26646054
END:VEVENT
END:VCALENDAR