BEGIN:VCALENDAR
VERSION:2.0
PRODID:-//ERT//LNF26//DE
VERSION:2.0
BEGIN:VEVENT
UID:station_7522_20260324T160000Z
DTSTAMP:20260420T054100Z
URL:https://ert.langenachtderforschung.at/station/7522
DTSTART:20260324T160000Z
DTEND:20260424T210000Z
SUMMARY:[LNF26] L42: Wer gewinnt – Mensch oder Roboter?
DESCRIPTION:Roboter werden oftmals als vermenschlicht dargestellt. Wir zeigen euch, dass ein Roboter sich deutlich vom menschlichen Aussehen unterscheidet, aber dennoch viele Aufgaben erledigen kann. Bei uns könnt ihr gegen Roboter in unterschiedlichen Spielen antreten und entdecken, was ein Roboter alles kann und versuchen zu gewinnen.
LOCATION:Lakeside B11, 9020 Klagenfurt
GEO:46.61423291;14.26646054
END:VEVENT
END:VCALENDAR