BEGIN:VCALENDAR
VERSION:2.0
PRODID:-//ERT//LNF26//DE
VERSION:2.0
BEGIN:VEVENT
UID:station_7523_20260324T160000Z
DTSTAMP:20260420T072000Z
URL:https://ert.langenachtderforschung.at/station/7523
DTSTART:20260324T160000Z
DTEND:20260424T210000Z
SUMMARY:[LNF26] L44: Warum brauchen wir 5G?
DESCRIPTION:Entdecke, wie 5G unsere Welt schneller macht! Ob VR-Brillen, Drohnen-Shows oder selbstfahrende Autos – all das funktioniert nur mit superschnellem Netz. Im 5G Playground Carinthia kannst du live sehen, wie 5G Daten blitzschnell überträgt, und spannende Anwendungen wie Smart Cities hautnah erleben!
LOCATION:Lakeside B11, 9020 Klagenfurt
GEO:46.61423291;14.26646054
END:VEVENT
END:VCALENDAR