BEGIN:VCALENDAR
VERSION:2.0
PRODID:-//ERT//LNF26//DE
VERSION:2.0
BEGIN:VEVENT
UID:station_7524_20260324T160000Z
DTSTAMP:20260420T054000Z
URL:https://ert.langenachtderforschung.at/station/7524
DTSTART:20260324T160000Z
DTEND:20260424T210000Z
SUMMARY:[LNF26] L45: Wie Holz und Papier schlau werden
DESCRIPTION:An unserer Station zeigen wir, wie Holz, Papier und Naturfasern „intelligent“ werden können. Im Projekt i3Sense haben wir Sensoren entwickelt, die Feuchtigkeit, Belastung oder Materialveränderungen direkt im Bauteil messen – aus nachwachsenden Rohstoffen!
LOCATION:Lakeside B11, 9020 Klagenfurt
GEO:46.61423291;14.26646054
END:VEVENT
END:VCALENDAR