BEGIN:VCALENDAR
VERSION:2.0
PRODID:-//ERT//LNF26//DE
VERSION:2.0
BEGIN:VEVENT
UID:station_7525_20260324T160000Z
DTSTAMP:20260420T054000Z
URL:https://ert.langenachtderforschung.at/station/7525
DTSTART:20260324T160000Z
DTEND:20260424T210000Z
SUMMARY:[LNF26] L46: Wo steckt was? – Objekte zuverlässig finden
DESCRIPTION:Entdecke, wie wir Dinge auch drinnen präzise finden können – ohne Satelliten! Mit Techniken wie UWB, Bluetooth, RFID, Kameras und Sensoren zeigen wir, wie Objekte überall lokalisiert werden. Schau dir an, wie diese Systeme im Alltag und in der Industrie eingesetzt werden und erlebe moderne Ortung hautnah!
LOCATION:Lakeside B11, 9020 Klagenfurt
GEO:46.61423291;14.26646054
END:VEVENT
END:VCALENDAR