BEGIN:VCALENDAR
VERSION:2.0
PRODID:-//ERT//LNF26//DE
VERSION:2.0
BEGIN:VEVENT
UID:station_7526_20260324T160000Z
DTSTAMP:20260420T071800Z
URL:https://ert.langenachtderforschung.at/station/7526
DTSTART:20260324T160000Z
DTEND:20260424T210000Z
SUMMARY:[LNF26] L47: Die Zukunft der Software: Automatisiert, sicher und intelligent
DESCRIPTION:Moderne Software muss nicht nur leistungsstark, sondern auch sicher sein. Dynatrace zeigt, wie KI und Automatisierung helfen, komplexe Software zu überwachen, zu optimieren und zu schützen.
LOCATION:Lakeside B11, 9020 Klagenfurt
GEO:46.61423291;14.26646054
END:VEVENT
END:VCALENDAR