BEGIN:VCALENDAR
VERSION:2.0
PRODID:-//ERT//LNF26//DE
VERSION:2.0
BEGIN:VEVENT
UID:station_7527_20260324T160000Z
DTSTAMP:20260420T054200Z
URL:https://ert.langenachtderforschung.at/station/7527
DTSTART:20260324T160000Z
DTEND:20260424T210000Z
SUMMARY:[LNF26] L48: Die Zukunft heißt „Multimodale Mobilität“
DESCRIPTION:Im Lakeside Science & Technology Park befindet sich einer der ersten multimodalen Mobilitätsknoten der KMG Klagenfurt Mobil GmbH. Denn egal, ob du etwas transportieren möchtest, umweltfreundlichen Strom für das E-Auto benötigst, oder einfach nur schnell und flexibel „wohin auch immer“ unterwegs sein willst. Schau bei uns vorbei und mach mit bei einer „Schnitzeljagd“ rund ums Thema klimaschonende, flexible Mobilität.
LOCATION:Lakeside B11, 9020 Klagenfurt
GEO:46.61423291;14.26646054
END:VEVENT
END:VCALENDAR