BEGIN:VCALENDAR
VERSION:2.0
PRODID:-//ERT//LNF26//DE
VERSION:2.0
BEGIN:VEVENT
UID:station_7528_20260324T160000Z
DTSTAMP:20260420T054000Z
URL:https://ert.langenachtderforschung.at/station/7528
DTSTART:20260324T160000Z
DTEND:20260424T210000Z
SUMMARY:[LNF26] L49: Raketenstart ins Gründungsuniversum: Was ist eigentlich ein Startup?
DESCRIPTION:Stell dir vor, du hast eine super Idee und möchtest daraus ein Produkt entwerfen oder für andere Menschen eine Dienstleistung anbieten. Oder hast du Lust dein:e eigene:r Chef:in zu sein? Wie genau das funktioniert, zeigt dir das build! Gründungszentrum. Hier erfährst du, wie man ein Videospiel entwickelt, was es mit dem unternehmerischen Geist auf sich hat und was eigentlich ein technologiebasiertes Startup ist.
LOCATION:Lakeside B11, 9020 Klagenfurt
GEO:46.61423291;14.26646054
END:VEVENT
END:VCALENDAR