BEGIN:VCALENDAR
VERSION:2.0
PRODID:-//ERT//LNF26//DE
VERSION:2.0
BEGIN:VEVENT
UID:station_7530_20260424T160000Z
DTSTAMP:20260420T053900Z
URL:https://ert.langenachtderforschung.at/station/7530
DTSTART:20260424T160000Z
DTEND:20260424T170000Z
SUMMARY:[LNF26] Rahmenprogramm: Über Nichtwissen und die Grenzen der Toleranz: Karl Popper und Helmut Schmidt
DESCRIPTION:18:00 Uhr, Universität Klagenfurt, Hörsaal 10, Mensagebäude
LOCATION:Universitätsstraße 65-67, 9020 Klagenfurt
GEO:46.61631826;14.26516771
END:VEVENT
END:VCALENDAR