BEGIN:VCALENDAR
VERSION:2.0
PRODID:-//ERT//LNF26//DE
VERSION:2.0
BEGIN:VEVENT
UID:station_7532_20260424T173000Z
DTSTAMP:20260420T053800Z
URL:https://ert.langenachtderforschung.at/station/7532
DTSTART:20260424T173000Z
DTEND:20260424T183000Z
SUMMARY:[LNF26] Rahmenprogramm: Innovationsprojekt Frieden – schwieriger und noch unverzichtbarer
DESCRIPTION:19:30 Uhr, Universität Klagenfurt, Hörsaal A
LOCATION:Universitätsstraße 65-67, 9020 Klagenfurt
GEO:46.61631826;14.26516771
END:VEVENT
END:VCALENDAR