BEGIN:VCALENDAR
VERSION:2.0
PRODID:-//ERT//LNF26//DE
VERSION:2.0
BEGIN:VEVENT
UID:station_7533_20260424T183000Z
DTSTAMP:20260420T071700Z
URL:https://ert.langenachtderforschung.at/station/7533
DTSTART:20260424T183000Z
DTEND:20260424T193000Z
SUMMARY:[LNF26] Rahmenprogramm: Performed by chance: All your opera! Performanceprojekt „Europeras 5“ von John Cage
DESCRIPTION:20:30 Uhr, Universität Klagenfurt, Hörsaal 1
LOCATION:Universitätsstraße 65-67, 9020 Klagenfurt
GEO:46.61631826;14.26516771
END:VEVENT
END:VCALENDAR