BEGIN:VCALENDAR
VERSION:2.0
PRODID:-//ERT//LNF26//DE
VERSION:2.0
BEGIN:VEVENT
UID:station_7536_20260324T160000Z
DTSTAMP:20260420T053800Z
URL:https://ert.langenachtderforschung.at/station/7536
DTSTART:20260324T160000Z
DTEND:20260424T210000Z
SUMMARY:[LNF26] Rahmenprogramm: Ricos ScienceCircus-Show
DESCRIPTION:Ab 18.00 Uhr Lakeside Spitz, vor und im Foyer B11
LOCATION:Lakeside B11, 9020 Klagenfurt
GEO:46.61423291;14.26646054
END:VEVENT
END:VCALENDAR