BEGIN:VCALENDAR
VERSION:2.0
PRODID:-//ERT//LNF26//DE
VERSION:2.0
BEGIN:VEVENT
UID:station_7555_20260324T160000Z
DTSTAMP:20260420T003000Z
URL:https://ert.langenachtderforschung.at/station/7555
DTSTART:20260324T160000Z
DTEND:20260424T210000Z
SUMMARY:[LNF26] POLICIES: Wie wirkt Digitalisierung in der Landwirtschaft?
DESCRIPTION:Felder sind an unterschiedlichen Stellen unterschiedlich beschaffen: Böden, Wasserverfügbarkeit und Pflanzenwachstum variieren. Bei der Bewirtschaftung wird das kaum berücksichtigt. Das Projekt von POLICIES und dem Maschinenring macht mittels Sensoren und Satellitendaten Boden- und Wachstumsinformationen sichtbar. Wie das funktioniert und welche Rolle ein Quad dabei spielt, erfahren Sie von unseren Forscher:innen.
LOCATION:Steyrergasse 17 DIGITAL Institut für Digitale Technologien, 8010 Graz
GEO:47.06404490;15.45319840
END:VEVENT
END:VCALENDAR