BEGIN:VCALENDAR
VERSION:2.0
PRODID:-//ERT//LNF26//DE
VERSION:2.0
BEGIN:VEVENT
UID:station_7562_20260324T160000Z
DTSTAMP:20260421T002400Z
URL:https://ert.langenachtderforschung.at/station/7562
DTSTART:20260324T160000Z
DTEND:20260424T210000Z
SUMMARY:[LNF26] Wie entsteht Emaille?
DESCRIPTION:Emaille ist nichts anderes als Staub aus Silikaten und Oxiden, der zu einer zusammenhängenden Fläche geschmolzen wird. Die Besucherinnen und Besucher unserer Station können auf Kupferblech als Trägermaterial mit Emaille kreativ arbeiten: In unserem Brennofen entstehen dann kleine Kunstwerke, die individuell und einzigartig sind und als Schmuckstücke verwendet werden können.
LOCATION:Hauffgasse 4A, 1110 Wien
GEO:48.17721370;16.41153380
END:VEVENT
END:VCALENDAR