BEGIN:VCALENDAR
VERSION:2.0
PRODID:-//ERT//LNF26//DE
VERSION:2.0
BEGIN:VEVENT
UID:station_7581_20260324T160000Z
DTSTAMP:20260420T020500Z
URL:https://ert.langenachtderforschung.at/station/7581
DTSTART:20260324T160000Z
DTEND:20260424T210000Z
SUMMARY:[LNF26] Versuchsstation Obst- und Weinbau Haidegg: Wie schmecken die neuen Rebsorten?
DESCRIPTION:Neue Rebsorten helfen, die aktuellen Herausforderungen im Weinbau zu meistern. Krankheitsresistente bzw. -tolerante Sorten sind ein wichtiger Beitrag zu den Anpassungsstrategien, die in Folge des Klimawandels (damit verbunden erhöhter Krankheits- und Schädlingsdruck) notwendig geworden sind. Viele dieser neuen Rebsorten funktionieren nachweislich im Anbau sehr gut. Die wesentliche Frage ist aber: Schmecken die Weine?
LOCATION:Steyrergasse 17 DIGITAL Institut für Digitale Technologien, 8010 Graz
GEO:47.06404490;15.45319840
END:VEVENT
END:VCALENDAR