BEGIN:VCALENDAR
VERSION:2.0
PRODID:-//ERT//LNF26//DE
VERSION:2.0
BEGIN:VEVENT
UID:station_7588_20260324T160000Z
DTSTAMP:20260420T003100Z
URL:https://ert.langenachtderforschung.at/station/7588
DTSTART:20260324T160000Z
DTEND:20260424T210000Z
SUMMARY:[LNF26] Was wissen Sie über Wasserstoff ?
DESCRIPTION:Wasserstoff – Energie zum Anfassen: Entdecken Sie einen der spannendsten Energieträger der Zukunft!\nAus Wasser gewonnen und sauber genutzt, entsteht dabei nur eines: wieder Wasser und Energie.
LOCATION:Inffeldgasse 15, 8010 Graz
GEO:47.05872901;15.46386033
END:VEVENT
END:VCALENDAR