BEGIN:VCALENDAR
VERSION:2.0
PRODID:-//ERT//LNF26//DE
VERSION:2.0
BEGIN:VEVENT
UID:station_7590_20260324T150000Z
DTSTAMP:20260421T081800Z
URL:https://ert.langenachtderforschung.at/station/7590
DTSTART:20260324T150000Z
DTEND:20260424T183000Z
SUMMARY:[LNF26] Mission Green Event: Schaffst du den Sprint zum sauberen Festival?
DESCRIPTION:Werde Green Event Manager:in und bewältige den Recycling-Run fehlerfrei.
LOCATION:Andreas Hofer-Str. 7, 6330 Kufstein
GEO:47.58336600;12.17310637
END:VEVENT
END:VCALENDAR