BEGIN:VCALENDAR
VERSION:2.0
PRODID:-//ERT//LNF26//DE
VERSION:2.0
BEGIN:VEVENT
UID:station_7600_20260324T160000Z
DTSTAMP:20260420T003000Z
URL:https://ert.langenachtderforschung.at/station/7600
DTSTART:20260324T160000Z
DTEND:20260424T210000Z
SUMMARY:[LNF26] Batterie der Zukunft - aber sicher! Wie funktioniert berührungslose Echtzeit-Gasmessung?
DESCRIPTION:Mit OCULAS präsentiert VIRTUAL VEHICLE die nächste Schlüsseltechnologie zur sicheren Batteriezukunft: Die innovative Lösung ermöglicht erstmals berührungslose Echtzeit-Gasmessungen während kritischer Momente im Lebenszyklus von Lithium-Ionen-Batterien – etwa bei Thermal Runaway-Ereignissen. OCULAS richtet sich an Unternehmen und Forschungsinstitute, die Gasfreisetzung in Batterien verstehen und kontrollieren wollen.
LOCATION:Steyrergasse 17, 8010 Graz
GEO:47.06391605;15.45324902
END:VEVENT
END:VCALENDAR