BEGIN:VCALENDAR
VERSION:2.0
PRODID:-//ERT//LNF26//DE
VERSION:2.0
BEGIN:VEVENT
UID:station_7612_20260324T160000Z
DTSTAMP:20260424T085800Z
URL:https://ert.langenachtderforschung.at/station/7612
DTSTART:20260324T160000Z
DTEND:20260424T210000Z
SUMMARY:[LNF26] CAR-T Zellen - Die Zukunft der Krebstherapie?
DESCRIPTION:Was sind eigentlich CAR-T Zellen, wie werden sie hergestellt und wofür brauchen wir sie im klinischen Alltag? Diese Fragen klären wir anhand einer schematischen Darstellung des Herstellungsprozesses und Abbildungen zur klinischen Anwendung. Zusätzlich kann man sich ansehen, wie ein fertiges Produkt aussehen könnte. Außerdem kann man bei einem Quiz sein eigenes Wissen über diese Therapie überprüfen und erweitern.
LOCATION:Lazarettgassenweg, 1090 Wien
GEO:48.21925982;16.34809137
END:VEVENT
END:VCALENDAR